BEGIN:VCALENDAR
VERSION:2.0
PRODID:-//Community Health Worker Association of RI - ECPv6.15.20//NONSGML v1.0//EN
CALSCALE:GREGORIAN
METHOD:PUBLISH
X-WR-CALNAME:Community Health Worker Association of RI
X-ORIGINAL-URL:https://chwari.org
X-WR-CALDESC:Events for Community Health Worker Association of RI
REFRESH-INTERVAL;VALUE=DURATION:PT1H
X-Robots-Tag:noindex
X-PUBLISHED-TTL:PT1H
BEGIN:VTIMEZONE
TZID:America/New_York
BEGIN:DAYLIGHT
TZOFFSETFROM:-0500
TZOFFSETTO:-0400
TZNAME:EDT
DTSTART:20230312T070000
END:DAYLIGHT
BEGIN:STANDARD
TZOFFSETFROM:-0400
TZOFFSETTO:-0500
TZNAME:EST
DTSTART:20231105T060000
END:STANDARD
BEGIN:DAYLIGHT
TZOFFSETFROM:-0500
TZOFFSETTO:-0400
TZNAME:EDT
DTSTART:20240310T070000
END:DAYLIGHT
BEGIN:STANDARD
TZOFFSETFROM:-0400
TZOFFSETTO:-0500
TZNAME:EST
DTSTART:20241103T060000
END:STANDARD
BEGIN:DAYLIGHT
TZOFFSETFROM:-0500
TZOFFSETTO:-0400
TZNAME:EDT
DTSTART:20250309T070000
END:DAYLIGHT
BEGIN:STANDARD
TZOFFSETFROM:-0400
TZOFFSETTO:-0500
TZNAME:EST
DTSTART:20251102T060000
END:STANDARD
END:VTIMEZONE
BEGIN:VEVENT
DTSTART;TZID=America/New_York:20240627T120000
DTEND;TZID=America/New_York:20240627T133000
DTSTAMP:20260422T003927
CREATED:20240522T144504Z
LAST-MODIFIED:20240522T145221Z
UID:10000861-1719489600-1719495000@chwari.org
SUMMARY:Certification Application Workshop
DESCRIPTION:Learn How to Apply for Certification!\n\n\n\n\n\n\n\nBegin preparing your CHW application\, including portfolio\, for submission to the RI Certification Board. \n\n\n\nVirtual over ZoomIf you have already taken a Community Health Worker training and want guidance on applying for CHW certification in RI\, this workshop is for you! This free virtual workshop will give advice\, clarity and facts about preparing your portfolio. Please note: CHWARI does not provide the certification itself; that authority resides with the RI Certification Board. In that light\, this workshop will provide basic guidance but will refer you to the RICB for more complex questions. \n\n\n\nCertification (or a plan with your employer to get it) is necessary for getting Medicaid reimbursement for your CHW services\, so register today!  \n\n\n\nThis workshop is open to those who: \n\n\n\n\nHave completed 70 hours of Core Competency CHW Training\, or who are currently enrolled in a training program that will result in meeting that requirement (having applied for such a training does not count\, but we will have other workshops in the future)\n\n\n\nAre employed as CHWs or who have completed 1000 hours of CHW work in recent years\n\n\n\nHave completed 1000 hours of CHW work in recent years\n\n\n\n\nIf you have not yet completed Core Competency CHW Training\, join the Community Health Worker Association of RI here to learn about upcoming training opportunities. \n\n\n\nRegister for this workshop ASAP! \n\n\n\n\nRegister!\n\n\n\n\n\n\n\n\n\n\n\n\n\n\nIf you have any questions\, please email CHWARI’s Project Certification Specialist\, Daniel Dodd\, ddodd@ric.edu. Alternatively\, CHW Communications & Outreach Assistant\, Dimaura Tavares\, at dtavares@ric.edu.
URL:https://chwari.org/event/certification-application-workshop-4/
CATEGORIES:Certification Application Workshops,Events
ATTACH;FMTTYPE=image/jpeg:https://chwari.org/wp-content/uploads/2024/02/Certification.jpg
END:VEVENT
END:VCALENDAR