BEGIN:VCALENDAR
VERSION:2.0
PRODID:-//Community Health Worker Association of RI - ECPv6.15.20//NONSGML v1.0//EN
CALSCALE:GREGORIAN
METHOD:PUBLISH
X-WR-CALNAME:Community Health Worker Association of RI
X-ORIGINAL-URL:https://chwari.org
X-WR-CALDESC:Events for Community Health Worker Association of RI
REFRESH-INTERVAL;VALUE=DURATION:PT1H
X-Robots-Tag:noindex
X-PUBLISHED-TTL:PT1H
BEGIN:VTIMEZONE
TZID:America/New_York
BEGIN:DAYLIGHT
TZOFFSETFROM:-0500
TZOFFSETTO:-0400
TZNAME:EDT
DTSTART:20170312T070000
END:DAYLIGHT
BEGIN:STANDARD
TZOFFSETFROM:-0400
TZOFFSETTO:-0500
TZNAME:EST
DTSTART:20171105T060000
END:STANDARD
BEGIN:DAYLIGHT
TZOFFSETFROM:-0500
TZOFFSETTO:-0400
TZNAME:EDT
DTSTART:20180311T070000
END:DAYLIGHT
BEGIN:STANDARD
TZOFFSETFROM:-0400
TZOFFSETTO:-0500
TZNAME:EST
DTSTART:20181104T060000
END:STANDARD
BEGIN:DAYLIGHT
TZOFFSETFROM:-0500
TZOFFSETTO:-0400
TZNAME:EDT
DTSTART:20190310T070000
END:DAYLIGHT
BEGIN:STANDARD
TZOFFSETFROM:-0400
TZOFFSETTO:-0500
TZNAME:EST
DTSTART:20191103T060000
END:STANDARD
END:VTIMEZONE
BEGIN:VEVENT
DTSTART;TZID=America/New_York:20181126T030000
DTEND;TZID=America/New_York:20181126T053000
DTSTAMP:20260421T043759
CREATED:20181121T004410Z
LAST-MODIFIED:20181121T004410Z
UID:10000006-1543201200-1543210200@chwari.org
SUMMARY:Social Determinants of Infant Mental Health\, Policy\, and RI Programs
DESCRIPTION:The RI Association for Infant Mental Health (RIAIMH) is conducting session 3 of its community conversation series on “Integrating Diversity-Informed Infant Mental Health Tenets Into Practice: Starting with Self-Awareness” (you do not need to have attended parts 1 and 2 to attend this third one). \nTitle of Session 3: Social Determinants of Health\, Infant Mental Health\, and Public Health Policy and Programs in RI \nDate: November 26\, 2018 \nTime: 8:00 am registration; 8:30 am – 10:30 am Program \nLocation: Rhode Island College\, Alger Hall 110 \nSpeaker: Ana Novais\, MA Executive Director of Health\, RI Department of Health \n\nThis session explores the intersection of public health policy\, social determinants of health\, and infant mental health.  We will consider social determinants of health as they apply to individuals as well as to groups of people.  We will look at the RI Department of Health policies and programs in support of health for all RI infants\, toddlers\, and their parents.  And we will consider workforce needs with respect to cultural competence. \n\nLink here for more information and to register. \n \n 
URL:https://chwari.org/event/social-determinants-of-infant-mental-health-policy-and-ri-programs/
CATEGORIES:Events
END:VEVENT
END:VCALENDAR