BEGIN:VCALENDAR
VERSION:2.0
PRODID:-//Community Health Worker Association of RI - ECPv6.15.20//NONSGML v1.0//EN
CALSCALE:GREGORIAN
METHOD:PUBLISH
X-ORIGINAL-URL:https://chwari.org
X-WR-CALDESC:Events for Community Health Worker Association of RI
REFRESH-INTERVAL;VALUE=DURATION:PT1H
X-Robots-Tag:noindex
X-PUBLISHED-TTL:PT1H
BEGIN:VTIMEZONE
TZID:America/New_York
BEGIN:DAYLIGHT
TZOFFSETFROM:-0500
TZOFFSETTO:-0400
TZNAME:EDT
DTSTART:20240310T070000
END:DAYLIGHT
BEGIN:STANDARD
TZOFFSETFROM:-0400
TZOFFSETTO:-0500
TZNAME:EST
DTSTART:20241103T060000
END:STANDARD
BEGIN:DAYLIGHT
TZOFFSETFROM:-0500
TZOFFSETTO:-0400
TZNAME:EDT
DTSTART:20250309T070000
END:DAYLIGHT
BEGIN:STANDARD
TZOFFSETFROM:-0400
TZOFFSETTO:-0500
TZNAME:EST
DTSTART:20251102T060000
END:STANDARD
BEGIN:DAYLIGHT
TZOFFSETFROM:-0500
TZOFFSETTO:-0400
TZNAME:EDT
DTSTART:20260308T070000
END:DAYLIGHT
BEGIN:STANDARD
TZOFFSETFROM:-0400
TZOFFSETTO:-0500
TZNAME:EST
DTSTART:20261101T060000
END:STANDARD
END:VTIMEZONE
BEGIN:VEVENT
DTSTART;TZID=America/New_York:20250108T090000
DTEND;TZID=America/New_York:20250108T103000
DTSTAMP:20260421T194753
CREATED:20241216T170343Z
LAST-MODIFIED:20250106T145320Z
UID:10001063-1736326800-1736332200@chwari.org
SUMMARY:Self-Care (Online)
DESCRIPTION:Rhode Island College’s Institute for Education in Healthcare presents this FREE self-care training\, led by instructors from the Bradley Hospital Learning Exchange. \n\n\n\n\n\n\n\nThis interactive 90-minute presentation will explore the five domains of self-care and the benefits of implementing self-care strategies within our daily routine. Diving deeper into the concept of self-compassion\, participants gain a better understanding of their personal self-compassion skills by completing an evidence-based assessment. Participants engage in several self-care and mindfulness techniques which can be used throughout the day across multiple settings. \n\n\n\nPlease join us on 1/8/25 from 9:00am – 10:30 am on Zoom as we join with our colleagues from the Bradley Learning Exchange for this online training. \n\n\n\nZoom link will be emailed to registrants 1 day prior to the event. Certificates of completion will be provided to participants. \n\n\n\nRegister ASAP! \n\n\n\n\nRegister
URL:https://chwari.org/event/self-care-online-2/
CATEGORIES:IEH Bradley Learning Exchange,Trainings
ATTACH;FMTTYPE=image/jpeg:https://chwari.org/wp-content/uploads/2024/02/self-care-word-cloud-1.jpg
LOCATION:
END:VEVENT
BEGIN:VEVENT
DTSTART;TZID=America/New_York:20250108T180000
DTEND;TZID=America/New_York:20250108T200000
DTSTAMP:20260421T194753
CREATED:20241126T143753Z
LAST-MODIFIED:20241126T144559Z
UID:10001035-1736359200-1736366400@chwari.org
SUMMARY:Manejo del Trauma en Trabajadores de Primera Línea Hispanos en la Crisis de Opioides
DESCRIPTION:¿Trabajas en la primera línea abordando la crisis de opioides en la comunidad hispana?El Instituto de Educación Continua y Desarrollo Profesional de Centro de Innovación Mujer Latina le invita a participar en la capacitación:“Manejo del Trauma en Trabajadores de Primera Línea Hispanos en la Crisis de Opioides” \n\n\n\n\n\n\n\n📚 DETALLES DE LA CAPACITACIÓN:✅ Duración: 16 horas de Educación Continua✅ Modalidad: Clases presenciales✅ Inicio: Miércoles\, 8 de enero de 2025✅ Horario: De 6:00 PM a 8:00 PM✅ Costo: ¡Completamente GRATIS!Con el apoyo de Rhode Island Executive Office of Health and Human Services y Rhode Island Foundation\, está capacitación le brindará herramientas esenciales para fortalecer su labor en la comunidad hispana durante esta crisis de salud pública.🔗 Inscríbete aquí:https://docs.google.com/forms/d/e/1FAIpQLSc3l6REi4XUMeLtKKqf-Gcd_5cPAU1CAienROt0gMeRlY6fUQ/viewform?usp=sf_link🎯 ¡No dejes pasar esta oportunidad para crecer profesionalmente y apoyar a tu comunidad!Importante: La capacitación es totalmente en español. Espacios limitados.————————-Are you a frontline worker addressing the opioid crisis in the Hispanic community?The Institute for Continuing Education and Professional Development of Centro de Innovación Mujer Latina invites you to participate in the training:“Trauma Management for Hispanic Frontline Workers in the Opioid Crisis”📚 TRAINING DETAILS:✅ Duration: 16 hours of Continuing Education✅ Format: In-person classes✅ Start date: Wednesday\, January 8\, 2025✅ Schedule: 6:00 PM – 8:00 PM✅ Cost: Completely FREE!With the support of the Rhode Island Executive Office of Health and Human Services and the Rhode Island Foundation\, this training will provide essential tools to strengthen your work within the Hispanic community during this public health crisis.🔗 Register here:https://docs.google.com/forms/d/e/1FAIpQLSc3l6REi4XUMeLtKKqf-Gcd_5cPAU1CAienROt0gMeRlY6fUQ/viewform?usp=sf_link🎯 Don’t miss this opportunity to grow professionally and support your community!Important: The training is entirely in Spanish. Limited spots available.
URL:https://chwari.org/event/manejo-del-trauma-en-trabajadores-de-primera-linea-hispanos-en-la-crisis-de-opioides/
LOCATION:Centro de Innovación Mujer Latina\, 279 Dexter Street\, Providence\, Rhode Island\, 02907\, United States
CATEGORIES:Trainings
ATTACH;FMTTYPE=image/jpeg:https://chwari.org/wp-content/uploads/2024/11/FB_IMG_1732305271234.jpg
ORGANIZER;CN="Centro de Innovaci%C3%B3n de Salud y Bienestar":MAILTO:cimujerlatina@outlook.com
END:VEVENT
BEGIN:VEVENT
DTSTART;TZID=America/New_York:20250110T090000
DTEND;TZID=America/New_York:20250110T120000
DTSTAMP:20260421T194753
CREATED:20241216T171331Z
LAST-MODIFIED:20250106T145429Z
UID:10001064-1736499600-1736510400@chwari.org
SUMMARY:Trauma Informed Care (In-Person)
DESCRIPTION:Please join RIC’s Institute for Education in Healthcare for an in-person training on 1/10/2025 with instructors from the Bradley Learning Exchange. \n\n\n\nThis training explores the consequences that exposure to trauma and adverse childhood experiences have on the lives of individuals and families. The presentation focuses on identifying different types of trauma/adversities; understanding common reactions to trauma; learning about the impact of trauma on brain development; and the influence of culture on trauma. Helpful strategies to utilize when working with and interacting with individuals who have been impacted by trauma will be explored. Attention will also be given to the importance of self-care for professionals. \n\n\n\nRegister ASAP!  \n\n\n\nThis class caps at 20 attendees.   Room number\, parking pass and campus map will be emailed to registrants 2 business days prior to the event. Certificates of completion will be provided to participants. \n\n\n\n\nRegister
URL:https://chwari.org/event/trauma-informed-care-in-person-2/
LOCATION:Rhode Island College\, 600 Mount Pleasant Street\, Providence\, RI\, 02908\, United States
CATEGORIES:IEH Bradley Learning Exchange,Trainings
ATTACH;FMTTYPE=image/jpeg:https://chwari.org/wp-content/uploads/2024/11/childhood-trauma.jpg
END:VEVENT
BEGIN:VEVENT
DTSTART;TZID=America/New_York:20250115T090000
DTEND;TZID=America/New_York:20250115T103000
DTSTAMP:20260421T194753
CREATED:20241219T150010Z
LAST-MODIFIED:20241219T151338Z
UID:10001067-1736931600-1736937000@chwari.org
SUMMARY:Substance Use Disorder (online)
DESCRIPTION:Please join Rhode Island College’s Institute for Education in Healthcare virtually on 1/15/2025 from 9:00am – 10:30AM with our colleagues from the Bradley Learning Exchange. \n\n\n\n\n\n\n\nThis training is designed to provide participants with a brief introduction to the complexities of substance use and overuse. \n\n\n\nParticipants will review concepts such as addiction\, dependence\, and general signs and symptoms of substance use. Learners will have the opportunity to review the four most frequently misused substances\, signs of overdose and useful evidence-based interventions. This training will conclude with sharing information with participants on the stigma and barriers associated with substance use. \n\n\n\nCertificates of completion will be provided to participants. \n\n\n\nPlease register by Monday January 8th and click the link below to register \n\n\n\n\nRegister
URL:https://chwari.org/event/substance-use-disorder-online-2/
CATEGORIES:IEH Bradley Learning Exchange,Trainings
ATTACH;FMTTYPE=image/jpeg:https://chwari.org/wp-content/uploads/2024/12/Post-X-Waiver-SUD-Training-Suite_Header_1000x450.jpg
LOCATION:
END:VEVENT
BEGIN:VEVENT
DTSTART;TZID=America/New_York:20250121T123000
DTEND;TZID=America/New_York:20250121T130000
DTSTAMP:20260421T194753
CREATED:20250117T181747Z
LAST-MODIFIED:20250117T181749Z
UID:10001075-1737462600-1737464400@chwari.org
SUMMARY:Trans Topic Tuesdays
DESCRIPTION:Trans Topic Tuesdays are a short\, informal\, weekly learning session dedicated to illuminating complex concepts related to LGBTQIA+ Life\, Health\, and Culture. Sessions frequently explore experiences\, terms\, needs\, treatments\, concepts that are missed in professional education surrounding LGBTQIA+ populations. Target audiences include but are not limited to: healthcare providers and healthcare support staff\, behavioural healthcare providers and their support staff\, education professionals\, government service persons\, human services professionals\, funders\, LGBTQIA+ people and their loved ones\, and more. \n\n\n\n\nRegister!
URL:https://chwari.org/event/trans-topic-tuesdays/2025-01-21/
CATEGORIES:Trainings
ATTACH;FMTTYPE=image/jpeg:https://chwari.org/wp-content/uploads/2021/11/ebcap-logo.jpg
LOCATION:
END:VEVENT
BEGIN:VEVENT
DTSTART;TZID=America/New_York:20250130T100000
DTEND;TZID=America/New_York:20250130T113000
DTSTAMP:20260421T194753
CREATED:20250106T143104Z
LAST-MODIFIED:20250106T143516Z
UID:10001070-1738231200-1738236600@chwari.org
SUMMARY:Legal Problem-Solving Community of Practice
DESCRIPTION:Are you a CHW dealing with a complex client issue that might benefit from legal problem-solving?Are you looking for more information on clients’ rights and legal protections?Would you like to hear updates on key law and policy impacting Rhode Islanders? \n\n\n\nIf you answered “yes” to any of these\, please attend the next MLPB Community of Practice meeting on January 30th at 10am.  It’s an opportunity for CHWs to get important policy/legal updates and bring “tough questions/cases” for problem-solving (for example\, housing\, food and income security\, utilities\, criminal systems involvement\, or something else.) \n\n\n\n\nRegister
URL:https://chwari.org/event/new-event/
CATEGORIES:Trainings
ATTACH;FMTTYPE=image/jpeg:https://chwari.org/wp-content/uploads/2024/11/legal-question.jpg
ORGANIZER;CN="MLPB":MAILTO:jgilbert@mlpb.health
LOCATION:
END:VEVENT
BEGIN:VEVENT
DTSTART;TZID=America/New_York:20250131T090000
DTEND;TZID=America/New_York:20250131T120000
DTSTAMP:20260421T194753
CREATED:20241219T150945Z
LAST-MODIFIED:20241219T152423Z
UID:10001068-1738314000-1738324800@chwari.org
SUMMARY:Suicide Prevention (In-Person)
DESCRIPTION:Every 11 minutes\, someone in the United States dies by suicide. Suicide is a preventable public health problem and prevention depends in large part on appropriate screening and response. In order for school districts to meet the guidelines set forth within the Nathan Bruno and Jason Flatt Act\, The Bradley Learning Exchange has developed the Suicide: Prevention\, Screening and Response training specifically geared to-wards educational settings for individuals who do not have a background in behavioral health. \n\n\n\nPlease join the Institute for Education in Healthcare on 1/31/25 from 9am – 12pm on the RIC campus as we join with our colleagues from the Bradley Learning Exchange for this in-person training. \n\n\n\nThis class caps at 20 trainees. Room number\, parking pass and campus map will be emailed to registrants 1 day prior to the event. Certificates of completion will be provided to participants. \n\n\n\nPlease register by Monday January 25th. \n\n\n\n\nRegister
URL:https://chwari.org/event/suicide-prevention-in-person-2/
LOCATION:Rhode Island College\, 600 Mount Pleasant Street\, Providence\, RI\, 02908\, United States
CATEGORIES:IEH Bradley Learning Exchange,Trainings
ATTACH;FMTTYPE=image/jpeg:https://chwari.org/wp-content/uploads/2019/11/suicide.jpg
END:VEVENT
END:VCALENDAR