BEGIN:VCALENDAR
VERSION:2.0
PRODID:-//Community Health Worker Association of RI - ECPv6.15.20//NONSGML v1.0//EN
CALSCALE:GREGORIAN
METHOD:PUBLISH
X-ORIGINAL-URL:https://chwari.org
X-WR-CALDESC:Events for Community Health Worker Association of RI
REFRESH-INTERVAL;VALUE=DURATION:PT1H
X-Robots-Tag:noindex
X-PUBLISHED-TTL:PT1H
BEGIN:VTIMEZONE
TZID:America/New_York
BEGIN:DAYLIGHT
TZOFFSETFROM:-0500
TZOFFSETTO:-0400
TZNAME:EDT
DTSTART:20240310T070000
END:DAYLIGHT
BEGIN:STANDARD
TZOFFSETFROM:-0400
TZOFFSETTO:-0500
TZNAME:EST
DTSTART:20241103T060000
END:STANDARD
BEGIN:DAYLIGHT
TZOFFSETFROM:-0500
TZOFFSETTO:-0400
TZNAME:EDT
DTSTART:20250309T070000
END:DAYLIGHT
BEGIN:STANDARD
TZOFFSETFROM:-0400
TZOFFSETTO:-0500
TZNAME:EST
DTSTART:20251102T060000
END:STANDARD
BEGIN:DAYLIGHT
TZOFFSETFROM:-0500
TZOFFSETTO:-0400
TZNAME:EDT
DTSTART:20260308T070000
END:DAYLIGHT
BEGIN:STANDARD
TZOFFSETFROM:-0400
TZOFFSETTO:-0500
TZNAME:EST
DTSTART:20261101T060000
END:STANDARD
END:VTIMEZONE
BEGIN:VEVENT
DTSTART;TZID=America/New_York:20250304T123000
DTEND;TZID=America/New_York:20250304T130000
DTSTAMP:20260421T161124
CREATED:20250117T181747Z
LAST-MODIFIED:20250117T181749Z
UID:10001078-1741091400-1741093200@chwari.org
SUMMARY:Trans Topic Tuesdays
DESCRIPTION:Trans Topic Tuesdays are a short\, informal\, weekly learning session dedicated to illuminating complex concepts related to LGBTQIA+ Life\, Health\, and Culture. Sessions frequently explore experiences\, terms\, needs\, treatments\, concepts that are missed in professional education surrounding LGBTQIA+ populations. Target audiences include but are not limited to: healthcare providers and healthcare support staff\, behavioural healthcare providers and their support staff\, education professionals\, government service persons\, human services professionals\, funders\, LGBTQIA+ people and their loved ones\, and more. \n\n\n\n\nRegister!
URL:https://chwari.org/event/trans-topic-tuesdays/2025-03-04/
CATEGORIES:Trainings
ATTACH;FMTTYPE=image/jpeg:https://chwari.org/wp-content/uploads/2021/11/ebcap-logo.jpg
LOCATION:
END:VEVENT
BEGIN:VEVENT
DTSTART;TZID=America/New_York:20250312T090000
DTEND;TZID=America/New_York:20250312T103000
DTSTAMP:20260421T161124
CREATED:20250305T200046Z
LAST-MODIFIED:20250305T200115Z
UID:10001113-1741770000-1741775400@chwari.org
SUMMARY:Substance Use Disorder (Online)
DESCRIPTION:March 12\, 2025  \n\n\n\n9am-10:30am   \n\n\n\nPlease join the Institute for Education in Healthcare and our colleagues from the Bradley Learning Exchange for this online training. \n\n\n\nThis training is designed to provide participants with a brief introduction to the complexities of substance use and overuse. Participants will review concepts such as addiction\, dependence\, and general signs and symptoms of substance use. Learners will have the opportunity to review the four most frequently misused substances\, signs of overdose and useful evidence-based interventions. This training will conclude with sharing information with participants on the stigma and barriers associated with substance use. \n\n\n\nCertificates of completion will be provided to participants. \n\n\n\n\nRegister
URL:https://chwari.org/event/substance-use-disorder-online-3/
CATEGORIES:IEH Bradley Learning Exchange,Trainings
ATTACH;FMTTYPE=image/jpeg:https://chwari.org/wp-content/uploads/2024/12/Post-X-Waiver-SUD-Training-Suite_Header_1000x450.jpg
LOCATION:
END:VEVENT
BEGIN:VEVENT
DTSTART;TZID=America/New_York:20250314T080000
DTEND;TZID=America/New_York:20250314T160000
DTSTAMP:20260421T161124
CREATED:20250305T190758Z
LAST-MODIFIED:20250305T190928Z
UID:10001107-1741939200-1741968000@chwari.org
SUMMARY:Mental Health First Aid (In-Person)
DESCRIPTION:Please join the Institute for Education in Healthcare on 3/14/2025 from 8:00am – 4:00 pm on the RIC campus as we join with our colleagues from the Bradley Learning Exchange for this in-person training.  \n\n\n\nMental Health First Aid for Adults is an eight-hour course that gives people the skills to help someone who is developing a mental health problem or experiencing a mental health crisis. The evidence behind the program demonstrates that it does build mental health literacy\, helping the public identify\, understand\, and respond to signs of mental illness. Trainees are taught how to apply the five-step action plan in a variety of situations such as helping someone through a panic attack\, engaging with someone who may be suicidal\, or assisting an individual who has overdosed. An important component of the mental health first aid course is the opportunity to practice the intervention strategy rather than to just learn about it. This simple experience can make it easier to actually apply the knowledge in a real-life situation. \n\n\n\n Certificates of completion will be provided to participants after the training.  \n\n\n\n\nRegister
URL:https://chwari.org/event/mental-health-first-aid/
LOCATION:Rhode Island College\, 600 Mount Pleasant Street\, Providence\, RI\, 02908\, United States
CATEGORIES:IEH Bradley Learning Exchange
ATTACH;FMTTYPE=image/jpeg:https://chwari.org/wp-content/uploads/2024/11/mental-health-first-aid-workshop.jpg
END:VEVENT
BEGIN:VEVENT
DTSTART;TZID=America/New_York:20250318T123000
DTEND;TZID=America/New_York:20250318T130000
DTSTAMP:20260421T161124
CREATED:20250117T181747Z
LAST-MODIFIED:20250117T181749Z
UID:10001079-1742301000-1742302800@chwari.org
SUMMARY:Trans Topic Tuesdays
DESCRIPTION:Trans Topic Tuesdays are a short\, informal\, weekly learning session dedicated to illuminating complex concepts related to LGBTQIA+ Life\, Health\, and Culture. Sessions frequently explore experiences\, terms\, needs\, treatments\, concepts that are missed in professional education surrounding LGBTQIA+ populations. Target audiences include but are not limited to: healthcare providers and healthcare support staff\, behavioural healthcare providers and their support staff\, education professionals\, government service persons\, human services professionals\, funders\, LGBTQIA+ people and their loved ones\, and more. \n\n\n\n\nRegister!
URL:https://chwari.org/event/trans-topic-tuesdays/2025-03-18/
CATEGORIES:Trainings
ATTACH;FMTTYPE=image/jpeg:https://chwari.org/wp-content/uploads/2021/11/ebcap-logo.jpg
LOCATION:
END:VEVENT
BEGIN:VEVENT
DTSTART;TZID=America/New_York:20250328T090000
DTEND;TZID=America/New_York:20250328T120000
DTSTAMP:20260421T161124
CREATED:20250305T192155Z
LAST-MODIFIED:20250305T193909Z
UID:10001109-1743152400-1743163200@chwari.org
SUMMARY:Suicide Prevention (In-Person)
DESCRIPTION:Suicide: Screening\, Prevention and Response Columbia-Suicide Severity Rating Scale Screen Version \n\n\n\nEvery 11 minutes\, someone in the United States dies by suicide. Suicide is a preventable public health problem and prevention depends in large part on appropriate screening and response. In order for school districts to meet the guidelines set forth within the Nathan Bruno and Jason Flatt Act\, The Bradley Learning Exchange has developed the Suicide: Prevention\, Screening and Response training specifically geared to-wards educational settings for individuals who do not have a background in behavioral health.  \n\n\n\nPlease join the Institute for Education in Healthcare on 3/28/2025 from 9am – 12pm on the RIC campus as we join with our colleagues from the Bradley Learning Exchange for this in-person training. \n\n\n\nThis class caps at 20 trainees though the form may accept more reponses. Room number\, parking pass and campus map will be emailed to the first 20 registrants 1 day prior to the event. Certificates of completion will be provided to participants. \n\n\n\n\n\n\nRegister
URL:https://chwari.org/event/suicide-prevention-in-person-3/
LOCATION:Rhode Island College\, 600 Mount Pleasant Street\, Providence\, RI\, 02908\, United States
CATEGORIES:IEH Bradley Learning Exchange,Trainings
ATTACH;FMTTYPE=image/jpeg:https://chwari.org/wp-content/uploads/2019/11/suicide.jpg
END:VEVENT
END:VCALENDAR