BEGIN:VCALENDAR
VERSION:2.0
PRODID:-//Community Health Worker Association of RI - ECPv6.15.20//NONSGML v1.0//EN
CALSCALE:GREGORIAN
METHOD:PUBLISH
X-ORIGINAL-URL:https://chwari.org
X-WR-CALDESC:Events for Community Health Worker Association of RI
REFRESH-INTERVAL;VALUE=DURATION:PT1H
X-Robots-Tag:noindex
X-PUBLISHED-TTL:PT1H
BEGIN:VTIMEZONE
TZID:America/New_York
BEGIN:DAYLIGHT
TZOFFSETFROM:-0500
TZOFFSETTO:-0400
TZNAME:EDT
DTSTART:20240310T070000
END:DAYLIGHT
BEGIN:STANDARD
TZOFFSETFROM:-0400
TZOFFSETTO:-0500
TZNAME:EST
DTSTART:20241103T060000
END:STANDARD
BEGIN:DAYLIGHT
TZOFFSETFROM:-0500
TZOFFSETTO:-0400
TZNAME:EDT
DTSTART:20250309T070000
END:DAYLIGHT
BEGIN:STANDARD
TZOFFSETFROM:-0400
TZOFFSETTO:-0500
TZNAME:EST
DTSTART:20251102T060000
END:STANDARD
BEGIN:DAYLIGHT
TZOFFSETFROM:-0500
TZOFFSETTO:-0400
TZNAME:EDT
DTSTART:20260308T070000
END:DAYLIGHT
BEGIN:STANDARD
TZOFFSETFROM:-0400
TZOFFSETTO:-0500
TZNAME:EST
DTSTART:20261101T060000
END:STANDARD
END:VTIMEZONE
BEGIN:VEVENT
DTSTART;TZID=America/New_York:20250401T123000
DTEND;TZID=America/New_York:20250401T130000
DTSTAMP:20260421T143402
CREATED:20250117T181747Z
LAST-MODIFIED:20250117T181749Z
UID:10001080-1743510600-1743512400@chwari.org
SUMMARY:Trans Topic Tuesdays
DESCRIPTION:Trans Topic Tuesdays are a short\, informal\, weekly learning session dedicated to illuminating complex concepts related to LGBTQIA+ Life\, Health\, and Culture. Sessions frequently explore experiences\, terms\, needs\, treatments\, concepts that are missed in professional education surrounding LGBTQIA+ populations. Target audiences include but are not limited to: healthcare providers and healthcare support staff\, behavioural healthcare providers and their support staff\, education professionals\, government service persons\, human services professionals\, funders\, LGBTQIA+ people and their loved ones\, and more. \n\n\n\n\nRegister!
URL:https://chwari.org/event/trans-topic-tuesdays/2025-04-01/
CATEGORIES:Trainings
ATTACH;FMTTYPE=image/jpeg:https://chwari.org/wp-content/uploads/2021/11/ebcap-logo.jpg
LOCATION:
END:VEVENT
BEGIN:VEVENT
DTSTART;TZID=America/New_York:20250402T090000
DTEND;TZID=America/New_York:20250402T103000
DTSTAMP:20260421T143402
CREATED:20250305T201717Z
LAST-MODIFIED:20250305T201719Z
UID:10001117-1743584400-1743589800@chwari.org
SUMMARY:Self-Care (Online)
DESCRIPTION:Please join Rhode Island College’s Institute for Education in Healthcare on 4/2/25 from 9:00am – 10:30 am with our colleagues from the Bradley Learning Exchange for this online training. \n\n\n\nThis interactive 90 minute presentation will explore the five domains of self-care and the benefits of implementing self-care strategies within our daily routine. Diving deeper into the concept of self-compassion\, participants gain a better understanding of their personal self-compassion skills by completing an evidence-based assessment. Participants engage in several self-care and mindfulness techniques which can be used throughout the day across multiple settings. \n\n\n\nZoom link will be emailed to registrants 1 day prior to the event. Certificates of completion will be provided to participants. \n\n\n\n\nRegister
URL:https://chwari.org/event/self-care-online-4/
CATEGORIES:IEH Bradley Learning Exchange,Trainings
ATTACH;FMTTYPE=image/jpeg:https://chwari.org/wp-content/uploads/2024/02/self-care-word-cloud-1.jpg
LOCATION:
END:VEVENT
BEGIN:VEVENT
DTSTART;TZID=America/New_York:20250405T090000
DTEND;TZID=America/New_York:20250405T140000
DTSTAMP:20260421T143402
CREATED:20250303T192717Z
LAST-MODIFIED:20250303T193223Z
UID:10001105-1743843600-1743861600@chwari.org
SUMMARY:Working with Schools to Support Youth Mental Health
DESCRIPTION:April 5 through May 3\, 2025 \n\n\n\n\n\n\n\nWorking with Schools to Support Youth Mental Health\n\n\n\nThis 30-hour training will prepare you to build effective partnerships to support student mental health in partnership with schools and families. Participants will learn about current issues\, roles and responsibilities\, laws\, policies\, and procedures\, and practices that support strong working relationships between providers in and outside of schools. \n\n\n\nParticipants will work together to develop shared understanding of the role of the various professionals and to develop and share practice strategies that can support their work with youth\, families\, and schools.  It takes place over five sessions\, some in-person at Rhode Island College\, and some over zoom.  You must attend all sessions.   \n\n\n\nCourse Dates: \n\n\n\n\nApril 5th – pre-work begins (remote)\n\n\n\nApril 12 (Saturday) 9AM – 2PM – In Person at RIC\n\n\n\nApril 16 (Wednesday) 5:30 – 8:30 PM – Zoom\n\n\n\nApril 23  (Wednesday) 5:30 – 8:30 PM – Zoom\n\n\n\nApril 30 (Wednesday) 5:30 – 8:30 PM – Zoom\n\n\n\nMay 3 (Saturday)  9AM – 2PM  – In Person at RIC\n\n\n\n\n\nRegister!\n\n\n\nShare flyer!\n\n\n\n\nContact Joshua A. Wizer-Vecchi jwizervecchi@ric.edu with questions.
URL:https://chwari.org/event/working-with-schools-to-support-youth-mental-health/
LOCATION:Rhode Island College\, 600 Mount Pleasant Street\, Providence\, RI\, 02908\, United States
CATEGORIES:Trainings
ATTACH;FMTTYPE=image/jpeg:https://chwari.org/wp-content/uploads/2025/03/improvingMentalHealth-1000x375-1.jpg
END:VEVENT
BEGIN:VEVENT
DTSTART;TZID=America/New_York:20250409T090000
DTEND;TZID=America/New_York:20250409T103000
DTSTAMP:20260421T143402
CREATED:20250305T200453Z
LAST-MODIFIED:20250305T200455Z
UID:10001114-1744189200-1744194600@chwari.org
SUMMARY:Substance Use Disorder (online)
DESCRIPTION:April 9\, 2025  \n\n\n\n9am-10:30am   \n\n\n\nPlease join the Institution for Education in Healthcare online with our colleagues from the Bradley Learning Exchange.  \n\n\n\nThis training is designed to provide participants with a brief introduction to the complexities of substance use and overuse. Participants will review concepts such as addiction\, dependence\, and general signs and symptoms of substance use. Learners will have the opportunity to review the four most frequently misused substances\, signs of overdose and useful evidence-based interventions. This training will conclude with sharing information with participants on the stigma and barriers associated with substance use. \n\n\n\nZoom link will be sent 1 day before the class. \n\n\n\nCertificates of completion will be provided to participants. \n\n\n\n\nRegister
URL:https://chwari.org/event/substance-use-disorder-online-4/
CATEGORIES:IEH Bradley Learning Exchange,Trainings
ATTACH;FMTTYPE=image/jpeg:https://chwari.org/wp-content/uploads/2024/12/Post-X-Waiver-SUD-Training-Suite_Header_1000x450.jpg
LOCATION:
END:VEVENT
BEGIN:VEVENT
DTSTART;TZID=America/New_York:20250411T090000
DTEND;TZID=America/New_York:20250411T120000
DTSTAMP:20260421T143402
CREATED:20250305T194454Z
LAST-MODIFIED:20250305T194650Z
UID:10001111-1744362000-1744372800@chwari.org
SUMMARY:Trauma Informed Care (In Person)
DESCRIPTION:Please join the Institute for Education in Healthcare on 4/11/25 from 9:00am – 12pm at Rhode Island College with our colleagues from the Bradley Learning Exchange for this in-person training.  \n\n\n\nThis training explores the consequences that exposure to trauma and adverse childhood experiences have on the lives of individuals and families. The presentation focuses on identifying different types of trauma/adversities; understanding common reactions to trauma; learning about the impact of trauma on brain development; and the influence of culture on trauma. Helpful strategies to utilize when working with and interacting with individuals who have been impacted by trauma will be explored. Attention will also be given to the importance of self-care for professionals. \n\n\n\nThis class caps at 20 attendees though the form may accept more responses.   Room number\, parking pass and campus map will be emailed to the first registrants 2 business days prior to the event.  \n\n\n\nCertificates of completion will be provided to participants. \n\n\n\n\nRegister
URL:https://chwari.org/event/trauma-informed-care-in-person-4/
LOCATION:Rhode Island College\, 600 Mount Pleasant Street\, Providence\, RI\, 02908\, United States
CATEGORIES:IEH Bradley Learning Exchange,Trainings
ATTACH;FMTTYPE=image/jpeg:https://chwari.org/wp-content/uploads/2024/11/childhood-trauma.jpg
END:VEVENT
BEGIN:VEVENT
DTSTART;TZID=America/New_York:20250415T123000
DTEND;TZID=America/New_York:20250415T130000
DTSTAMP:20260421T143402
CREATED:20250428T160512Z
LAST-MODIFIED:20250428T160514Z
UID:10001081-1744720200-1744722000@chwari.org
SUMMARY:Trans Topic Tuesdays
DESCRIPTION:Trans Topic Tuesdays are a short\, informal\, weekly learning session dedicated to illuminating complex concepts related to LGBTQIA+ Life\, Health\, and Culture. Sessions frequently explore experiences\, terms\, needs\, treatments\, concepts that are missed in professional education surrounding LGBTQIA+ populations. Target audiences include but are not limited to: healthcare providers and healthcare support staff\, behavioural healthcare providers and their support staff\, education professionals\, government service persons\, human services professionals\, funders\, LGBTQIA+ people and their loved ones\, and more. \n\n\n\n\nRegister!
URL:https://chwari.org/event/trans-topic-tuesdays-2/2025-04-15/
CATEGORIES:Trainings
ATTACH;FMTTYPE=image/jpeg:https://chwari.org/wp-content/uploads/2021/11/ebcap-logo.jpg
LOCATION:
END:VEVENT
BEGIN:VEVENT
DTSTART;TZID=America/New_York:20250415T180000
DTEND;TZID=America/New_York:20250415T210000
DTSTAMP:20260421T143402
CREATED:20250313T130722Z
LAST-MODIFIED:20250326T130604Z
UID:10001119-1744740000-1744750800@chwari.org
SUMMARY:CHW Core Competency Training
DESCRIPTION:The application for this training has closed as we process the many applications we have received. While CHWARI does not have another core training scheduled at this time – please see this page for other training entities in Rhode Island. \n\n\n\n\n\n\n\nApril 15-July 1\, 2025Tuesdays 6-9pmVirtual over Zoom \n\n\n\nGet the training you need to apply for CHW Certification! \n\n\n\nCHWARI’s FREE virtual Community Health Worker Core Competency Training is intended to prepare participants for entry-level CHW positions in community-based social service\, healthcare and behavioral health settings. Its 12 modules are each aligned with a set of competencies defined by the Rhode Island Certification Board. Each module includes 3 hours of live zoom training plus 3 hours of training activities\, for a total of 72 training hours\, fulfilling the 70-hour requirement for RI CHW certification. Applicants must be fluent in English.  \n\n\n\nThis CHW Core Training will run over ZOOM on Tuesday evenings\, April 15th through July 1st\, 2025 from 6-9pm.  *Please note that this training has different weekly hours than our past core trainings. This is 3 hours each week of zoom class and 3 hours a week of “homework.”*  There is an orientation on April 8th at 6pm.  \n\n\n\nSee the Core Competencies of a Community Health Worker here. \n\n\n\nLearn about getting your Community Health Worker Certification here. \n\n\n\nApplication deadline is March 28th\, 2025 at noon – but apply ASAP as spots are limited and applications are considered in the order they are received.  If you have any questions\, please email CHWARI’s Interim Director\, Dr. Tonya Glantz at tglantz@ric.edu. If you believe you are on a waitlist for this training\, you must contact Dr. Glantz to renew your application / confirm your status.  Please do not assume you are already on a waitlist.  Thanks! \n\n\n\n\nApplication Closed
URL:https://chwari.org/event/chw-core-competency-training-11/
CATEGORIES:Trainings
ATTACH;FMTTYPE=image/png:https://chwari.org/wp-content/uploads/2025/03/CampaignLogo_3.png
LOCATION:
END:VEVENT
BEGIN:VEVENT
DTSTART;TZID=America/New_York:20250425T090000
DTEND;TZID=America/New_York:20250425T120000
DTSTAMP:20260421T143402
CREATED:20250421T182003Z
LAST-MODIFIED:20250421T182319Z
UID:10001177-1745571600-1745582400@chwari.org
SUMMARY:Cardiovascular Health & Diabetes Management
DESCRIPTION:Spring 2025 CHW CVD/DM Virtual TrainingApril 25 – June 27\, 2025\, Fridays\, 9am -12pm (no class 5/23 & 6/6) \n\n\n\nThis training is funded by the Rhode Island Department of Health and aligns with the Rhode Island Certification Board’s (RICB) educational requirements for this specialty CHW certification in Cardiovascular Health and Diabetes. The training is conducted by the Community Health Worker Association of RI housed at the Institute for Education in Healthcare at Rhode Island College. \n\n\n\nTo qualify for this training\, you must already hold your CHW certification or be in the process of applying. \n\n\n\nTrainings run weekly on Friday mornings from 9am-12pm. Please be sure to fill out all parts of the application.  The deadline for the application is Thursday 4/24/25. If you have any questions\, please email Tonya Glantz at tglantz@ric.edu. Click here for REGISTRATION
URL:https://chwari.org/event/cardiovascular-health-diabetes-management/
CATEGORIES:Trainings
ATTACH;FMTTYPE=image/jpeg:https://chwari.org/wp-content/uploads/2022/03/CVD-Diabetes-Managment.jpg
END:VEVENT
BEGIN:VEVENT
DTSTART;TZID=America/New_York:20250429T123000
DTEND;TZID=America/New_York:20250429T130000
DTSTAMP:20260421T143402
CREATED:20250428T160512Z
LAST-MODIFIED:20250428T160514Z
UID:10001082-1745929800-1745931600@chwari.org
SUMMARY:Trans Topic Tuesdays
DESCRIPTION:Trans Topic Tuesdays are a short\, informal\, weekly learning session dedicated to illuminating complex concepts related to LGBTQIA+ Life\, Health\, and Culture. Sessions frequently explore experiences\, terms\, needs\, treatments\, concepts that are missed in professional education surrounding LGBTQIA+ populations. Target audiences include but are not limited to: healthcare providers and healthcare support staff\, behavioural healthcare providers and their support staff\, education professionals\, government service persons\, human services professionals\, funders\, LGBTQIA+ people and their loved ones\, and more. \n\n\n\n\nRegister!
URL:https://chwari.org/event/trans-topic-tuesdays-2/2025-04-29/
CATEGORIES:Trainings
ATTACH;FMTTYPE=image/jpeg:https://chwari.org/wp-content/uploads/2021/11/ebcap-logo.jpg
LOCATION:
END:VEVENT
BEGIN:VEVENT
DTSTART;TZID=America/New_York:20250430T090000
DTEND;TZID=America/New_York:20250430T103000
DTSTAMP:20260421T143402
CREATED:20250305T200851Z
LAST-MODIFIED:20250305T200853Z
UID:10001115-1746003600-1746009000@chwari.org
SUMMARY:Substance Use Disorder (Online)
DESCRIPTION:April 30\, 2025  \n\n\n\n9am-10:30am   \n\n\n\nZoom link will be sent 1 day before the class. \n\n\n\nPlease join the Institution for Education in Healthcare online with our colleagues from the Bradley Learning Exchange.  \n\n\n\nThis training is designed to provide participants with a brief introduction to the complexities of substance use and overuse. Participants will review concepts such as addiction\, dependence\, and general signs and symptoms of substance use. Learners will have the opportunity to review the four most frequently misused substances\, signs of overdose and useful evidence-based interventions. This training will conclude with sharing information with participants on the stigma and barriers associated with substance use. \n\n\n\nCertificates of completion will be provided to participants. \n\n\n\n\nRegister
URL:https://chwari.org/event/substance-use-disorder-online-5/
CATEGORIES:IEH Bradley Learning Exchange,Trainings
ATTACH;FMTTYPE=image/jpeg:https://chwari.org/wp-content/uploads/2024/12/Post-X-Waiver-SUD-Training-Suite_Header_1000x450.jpg
LOCATION:
END:VEVENT
BEGIN:VEVENT
DTSTART;TZID=America/New_York:20250430T180000
DTEND;TZID=America/New_York:20250430T210000
DTSTAMP:20260421T143402
CREATED:20250421T182710Z
LAST-MODIFIED:20250421T182711Z
UID:10001178-1746036000-1746046800@chwari.org
SUMMARY:Intimate Partner Violence Training
DESCRIPTION:Intimate Partner ViolenceApril 30 – June 11\, 2025 \n\n\n\nWednesdays\, 6pm-9pmIN-PERSON AT RICThe training covers a range of essential topics\, including ethical considerations\, the role of an advocate\, understanding trauma\, safety planning\, and recognizing the dynamics of IPV. Participants will learn about the dynamics of interpersonal violence including domestic violence\, sexual violence\, and human trafficking\, as well as define and identify human trafficking including labor and sex trafficking. The training explores challenges faced by advocates\, including the ability to recognize vicarious trauma and signs of burnout and to identify three things they can do for self-care. This course meets in-person every Wednesday 6pm-9pm starting April 30 through June 11. In addition to the in-person classes\, there is weekly asynchronous homework.  \n\n\n\nSpace is limited. We will accept the first 30 people who register and the registration deadline is Monday 4/28.  If you have questions\, please contact Tonya Glantz at tglantz@ric.edu or 401-456-4626. Click here for REGISTRATION
URL:https://chwari.org/event/intimate-partner-violence-training/
LOCATION:Rhode Island College\, 600 Mount Pleasant Street\, Providence\, RI\, 02908\, United States
CATEGORIES:Trainings
ATTACH;FMTTYPE=image/jpeg:https://chwari.org/wp-content/uploads/2025/04/fea-what-is-intimate-partner-violence-illustration.jpg
END:VEVENT
END:VCALENDAR