BEGIN:VCALENDAR
VERSION:2.0
PRODID:-//Community Health Worker Association of RI - ECPv6.15.20//NONSGML v1.0//EN
CALSCALE:GREGORIAN
METHOD:PUBLISH
X-ORIGINAL-URL:https://chwari.org
X-WR-CALDESC:Events for Community Health Worker Association of RI
REFRESH-INTERVAL;VALUE=DURATION:PT1H
X-Robots-Tag:noindex
X-PUBLISHED-TTL:PT1H
BEGIN:VTIMEZONE
TZID:America/New_York
BEGIN:DAYLIGHT
TZOFFSETFROM:-0500
TZOFFSETTO:-0400
TZNAME:EDT
DTSTART:20240310T070000
END:DAYLIGHT
BEGIN:STANDARD
TZOFFSETFROM:-0400
TZOFFSETTO:-0500
TZNAME:EST
DTSTART:20241103T060000
END:STANDARD
BEGIN:DAYLIGHT
TZOFFSETFROM:-0500
TZOFFSETTO:-0400
TZNAME:EDT
DTSTART:20250309T070000
END:DAYLIGHT
BEGIN:STANDARD
TZOFFSETFROM:-0400
TZOFFSETTO:-0500
TZNAME:EST
DTSTART:20251102T060000
END:STANDARD
BEGIN:DAYLIGHT
TZOFFSETFROM:-0500
TZOFFSETTO:-0400
TZNAME:EDT
DTSTART:20260308T070000
END:DAYLIGHT
BEGIN:STANDARD
TZOFFSETFROM:-0400
TZOFFSETTO:-0500
TZNAME:EST
DTSTART:20261101T060000
END:STANDARD
END:VTIMEZONE
BEGIN:VEVENT
DTSTART;TZID=America/New_York:20250502T090000
DTEND;TZID=America/New_York:20250502T120000
DTSTAMP:20260421T125903
CREATED:20250305T193815Z
LAST-MODIFIED:20250305T203158Z
UID:10001110-1746176400-1746187200@chwari.org
SUMMARY:Suicide Prevention (In-Person)
DESCRIPTION:Suicide: Screening\, Prevention and Response Columbia-Suicide Severity Rating Scale Screen Version \n\n\n\nEvery 11 minutes\, someone in the United States dies by suicide. Suicide is a preventable public health problem and prevention depends in large part on appropriate screening and response. In order for school districts to meet the guidelines set forth within the Nathan Bruno and Jason Flatt Act\, The Bradley Learning Exchange has developed the Suicide: Prevention\, Screening and Response training specifically geared to-wards educational settings for individuals who do not have a background in behavioral health.  \n\n\n\nPlease join the Institute for Education in Healthcare on 5/2/2025 from 9am – 12pm on the RIC campus as we join with our colleagues from the Bradley Learning Exchange for this in-person training. \n\n\n\nThis class caps at 20 trainees though the form may accept more responses. Room number\, parking pass and campus map will be emailed to registrants 1 day prior to the event.  \n\n\n\nCertificates of completion will be provided to participants. \n\n\n\n\nRegister
URL:https://chwari.org/event/suicide-prevention-in-person-4/
LOCATION:Rhode Island College\, 600 Mount Pleasant Street\, Providence\, RI\, 02908\, United States
CATEGORIES:IEH Bradley Learning Exchange,Trainings
ATTACH;FMTTYPE=image/jpeg:https://chwari.org/wp-content/uploads/2019/11/suicide.jpg
END:VEVENT
BEGIN:VEVENT
DTSTART;TZID=America/New_York:20250507T090000
DTEND;TZID=America/New_York:20250507T103000
DTSTAMP:20260421T125903
CREATED:20250305T202150Z
LAST-MODIFIED:20250305T202152Z
UID:10001118-1746608400-1746613800@chwari.org
SUMMARY:Autism Thinking (Online)
DESCRIPTION:Autism Thinking: Understanding the Core Challenges of ASD and How to Support an Individual Across the Day \n\n\n\n\n\n\n\nPlease join Rhode Island College’s Institute for Education in Healthcare on 5/7/25 from 9:00am – 10:30 am with our colleagues from the Bradley Learning Exchange for this online training. \n\n\n\n“Autism Thinking” is designed to inform participants of the neurodevelopmental characteristics of Autism Spectrum Disorder (ASD). Topics include\, but are not limited to: Executive Functioning\, Context Blindness\, Theory of Mind\, Central Coherence\, Joint Attention\, and One-Channel Processing. An understanding of these characteristics and challenges arms participants with the knowledge required to support individuals with ASD in their daily lives (in the classroom\, in the home\, or in the community). This presentation ends with a discussion of the methods used to support individuals with ASD. These practical tools and strategies will help participants be proactive and confident in their efforts to support individuals with autism in a variety of settings. \n\n\n\nZoom link will be sent 1 day before the class. \n\n\n\n\nRegister
URL:https://chwari.org/event/autism-thinking-online-4/
CATEGORIES:IEH Bradley Learning Exchange,Trainings
ATTACH;FMTTYPE=image/jpeg:https://chwari.org/wp-content/uploads/2024/11/autism-thinking.jpg
LOCATION:
END:VEVENT
BEGIN:VEVENT
DTSTART;TZID=America/New_York:20250509T090000
DTEND;TZID=America/New_York:20250509T120000
DTSTAMP:20260421T125903
CREATED:20250305T195142Z
LAST-MODIFIED:20250305T195144Z
UID:10001112-1746781200-1746792000@chwari.org
SUMMARY:Trauma Informed Care (In-Person)
DESCRIPTION:Please join the Institute for Education in Healthcare on 5/9/25 from 9:00am – 12pm at Rhode Island College as we join with our colleagues from the Bradley Learning Exchange for this in-person training.  \n\n\n\nThis training explores the consequences that exposure to trauma and adverse childhood experiences have on the lives of individuals and families. The presentation focuses on identifying different types of trauma/adversities; understanding common reactions to trauma; learning about the impact of trauma on brain development; and the influence of culture on trauma. Helpful strategies to utilize when working with and interacting with individuals who have been impacted by trauma will be explored. Attention will also be given to the importance of self-care for professionals. \n\n\n\nThis class caps at 20 attendees though the form may accept more responses.   Room number\, parking pass and campus map will be emailed to the first registrants 2 business days prior to the event.  \n\n\n\nCertificates of completion will be provided to participants. \n\n\n\n\nRegister
URL:https://chwari.org/event/trauma-informed-care-in-person-5/
LOCATION:Rhode Island College\, 600 Mount Pleasant Street\, Providence\, RI\, 02908\, United States
CATEGORIES:IEH Bradley Learning Exchange,Trainings
ATTACH;FMTTYPE=image/jpeg:https://chwari.org/wp-content/uploads/2024/11/childhood-trauma.jpg
END:VEVENT
BEGIN:VEVENT
DTSTART;TZID=America/New_York:20250513T123000
DTEND;TZID=America/New_York:20250513T130000
DTSTAMP:20260421T125903
CREATED:20250428T160512Z
LAST-MODIFIED:20250428T160514Z
UID:10001083-1747139400-1747141200@chwari.org
SUMMARY:Trans Topic Tuesdays
DESCRIPTION:Trans Topic Tuesdays are a short\, informal\, weekly learning session dedicated to illuminating complex concepts related to LGBTQIA+ Life\, Health\, and Culture. Sessions frequently explore experiences\, terms\, needs\, treatments\, concepts that are missed in professional education surrounding LGBTQIA+ populations. Target audiences include but are not limited to: healthcare providers and healthcare support staff\, behavioural healthcare providers and their support staff\, education professionals\, government service persons\, human services professionals\, funders\, LGBTQIA+ people and their loved ones\, and more. \n\n\n\n\nRegister!
URL:https://chwari.org/event/trans-topic-tuesdays-2/2025-05-13/
CATEGORIES:Trainings
ATTACH;FMTTYPE=image/jpeg:https://chwari.org/wp-content/uploads/2021/11/ebcap-logo.jpg
LOCATION:
END:VEVENT
BEGIN:VEVENT
DTSTART;TZID=America/New_York:20250521T090000
DTEND;TZID=America/New_York:20250521T103000
DTSTAMP:20260421T125903
CREATED:20250305T201240Z
LAST-MODIFIED:20250305T201316Z
UID:10001116-1747818000-1747823400@chwari.org
SUMMARY:Substance Use Disorder (Online)
DESCRIPTION:May 21\, 2025  \n\n\n\n9-10:30am   \n\n\n\nPlease join the Institution for Education in Healthcare online with our colleagues from the Bradley Learning Exchange.  \n\n\n\nThis training is designed to provide participants with a brief introduction to the complexities of substance use and overuse. Participants will review concepts such as addiction\, dependence\, and general signs and symptoms of substance use. Learners will have the opportunity to review the four most frequently misused substances\, signs of overdose and useful evidence-based interventions. This training will conclude with sharing information with participants on the stigma and barriers associated with substance use. \n\n\n\nZoom link will be sent 1 day before the class. \n\n\n\nCertificates of completion will be provided to participants. \n\n\n\n\nRegister
URL:https://chwari.org/event/substance-use-disorder-online-6/
CATEGORIES:IEH Bradley Learning Exchange,Trainings
ATTACH;FMTTYPE=image/jpeg:https://chwari.org/wp-content/uploads/2024/12/Post-X-Waiver-SUD-Training-Suite_Header_1000x450.jpg
LOCATION:
END:VEVENT
BEGIN:VEVENT
DTSTART;TZID=America/New_York:20250527T123000
DTEND;TZID=America/New_York:20250527T130000
DTSTAMP:20260421T125903
CREATED:20250428T160512Z
LAST-MODIFIED:20250428T160514Z
UID:10001084-1748349000-1748350800@chwari.org
SUMMARY:Trans Topic Tuesdays
DESCRIPTION:Trans Topic Tuesdays are a short\, informal\, weekly learning session dedicated to illuminating complex concepts related to LGBTQIA+ Life\, Health\, and Culture. Sessions frequently explore experiences\, terms\, needs\, treatments\, concepts that are missed in professional education surrounding LGBTQIA+ populations. Target audiences include but are not limited to: healthcare providers and healthcare support staff\, behavioural healthcare providers and their support staff\, education professionals\, government service persons\, human services professionals\, funders\, LGBTQIA+ people and their loved ones\, and more. \n\n\n\n\nRegister!
URL:https://chwari.org/event/trans-topic-tuesdays-2/2025-05-27/
CATEGORIES:Trainings
ATTACH;FMTTYPE=image/jpeg:https://chwari.org/wp-content/uploads/2021/11/ebcap-logo.jpg
LOCATION:
END:VEVENT
END:VCALENDAR