BEGIN:VCALENDAR
VERSION:2.0
PRODID:-//Community Health Worker Association of RI - ECPv6.15.20//NONSGML v1.0//EN
CALSCALE:GREGORIAN
METHOD:PUBLISH
X-WR-CALNAME:Community Health Worker Association of RI
X-ORIGINAL-URL:https://chwari.org
X-WR-CALDESC:Events for Community Health Worker Association of RI
REFRESH-INTERVAL;VALUE=DURATION:PT1H
X-Robots-Tag:noindex
X-PUBLISHED-TTL:PT1H
BEGIN:VTIMEZONE
TZID:America/New_York
BEGIN:DAYLIGHT
TZOFFSETFROM:-0500
TZOFFSETTO:-0400
TZNAME:EDT
DTSTART:20240310T070000
END:DAYLIGHT
BEGIN:STANDARD
TZOFFSETFROM:-0400
TZOFFSETTO:-0500
TZNAME:EST
DTSTART:20241103T060000
END:STANDARD
BEGIN:DAYLIGHT
TZOFFSETFROM:-0500
TZOFFSETTO:-0400
TZNAME:EDT
DTSTART:20250309T070000
END:DAYLIGHT
BEGIN:STANDARD
TZOFFSETFROM:-0400
TZOFFSETTO:-0500
TZNAME:EST
DTSTART:20251102T060000
END:STANDARD
BEGIN:DAYLIGHT
TZOFFSETFROM:-0500
TZOFFSETTO:-0400
TZNAME:EDT
DTSTART:20260308T070000
END:DAYLIGHT
BEGIN:STANDARD
TZOFFSETFROM:-0400
TZOFFSETTO:-0500
TZNAME:EST
DTSTART:20261101T060000
END:STANDARD
END:VTIMEZONE
BEGIN:VEVENT
DTSTART;TZID=America/New_York:20250606T090000
DTEND;TZID=America/New_York:20250606T120000
DTSTAMP:20260421T110821
CREATED:20250528T132432Z
LAST-MODIFIED:20250528T132434Z
UID:10001204-1749200400-1749211200@chwari.org
SUMMARY:CPR-AED Training
DESCRIPTION:If you need to renew your CPR-AED American Red Cross Certification or if you need it to apply for the CHW Cardiovascular Disease & Diabetes Management (CVD-DM) Specialization\, this 3 hour course will provide the training and certification you need. It is offered by the RI Department of Health and Rhode Island College. \n\n\n\n\nFriday\, June 6th\, 2025\n\n\n\n9am-12pm in person at RI College\, Alger Hall 108\n\n\n\n\nSpace is limited and will take the first 15 people who register. A confirmation email will be sent confirming your acceptance or notifying you if the training is full.Please contact Tonya Glantz – tglantz@ric.edu with questions. \n\n\n\nSubmit interest!
URL:https://chwari.org/event/cpr-aed-training/
LOCATION:Rhode Island College\, 600 Mount Pleasant Street\, Providence\, RI\, 02908\, United States
CATEGORIES:Trainings
ATTACH;FMTTYPE=image/jpeg:https://chwari.org/wp-content/uploads/2025/05/istockphoto-918024598-612x612-1.jpg
END:VEVENT
BEGIN:VEVENT
DTSTART;TZID=America/New_York:20250610T123000
DTEND;TZID=America/New_York:20250610T130000
DTSTAMP:20260421T110821
CREATED:20250428T160512Z
LAST-MODIFIED:20250428T160514Z
UID:10001085-1749558600-1749560400@chwari.org
SUMMARY:Trans Topic Tuesdays
DESCRIPTION:Trans Topic Tuesdays are a short\, informal\, weekly learning session dedicated to illuminating complex concepts related to LGBTQIA+ Life\, Health\, and Culture. Sessions frequently explore experiences\, terms\, needs\, treatments\, concepts that are missed in professional education surrounding LGBTQIA+ populations. Target audiences include but are not limited to: healthcare providers and healthcare support staff\, behavioural healthcare providers and their support staff\, education professionals\, government service persons\, human services professionals\, funders\, LGBTQIA+ people and their loved ones\, and more. \n\n\n\n\nRegister!
URL:https://chwari.org/event/trans-topic-tuesdays-2/2025-06-10/
CATEGORIES:Trainings
ATTACH;FMTTYPE=image/jpeg:https://chwari.org/wp-content/uploads/2021/11/ebcap-logo.jpg
LOCATION:
END:VEVENT
BEGIN:VEVENT
DTSTART;TZID=America/New_York:20250612T123000
DTEND;TZID=America/New_York:20250612T140000
DTSTAMP:20260421T110822
CREATED:20250604T133603Z
LAST-MODIFIED:20250604T133735Z
UID:10001210-1749731400-1749736800@chwari.org
SUMMARY:Identity Document Training
DESCRIPTION:Join Legal Key for an Unlocking Access®: Identity Documents training.  It will be held on June 12\, 2025 from 12:30pm – 2:00pm\, hosted by Law & Policy Consultant Rebecca Kislak. By the end of this training you will have learned to: \n\n\n\n\nRecognize ways care teams can support individuals who are trying to obtain identifying documents.\n\n\n\nIdentify common obstacles to obtaining identifying documents.\n\n\n\nApply advocacy strategies to assist individuals who are trying to obtain identifying documents.
URL:https://chwari.org/event/identity-document-training/
CATEGORIES:Trainings
ATTACH;FMTTYPE=image/png:https://chwari.org/wp-content/uploads/2025/04/Legal-Key-Logo.png
ORGANIZER;CN="Legal Key":MAILTO:admin@legalkeypartnership.org
LOCATION:
END:VEVENT
BEGIN:VEVENT
DTSTART;TZID=America/New_York:20250624T123000
DTEND;TZID=America/New_York:20250624T130000
DTSTAMP:20260421T110822
CREATED:20250428T160512Z
LAST-MODIFIED:20250428T160514Z
UID:10001086-1750768200-1750770000@chwari.org
SUMMARY:Trans Topic Tuesdays
DESCRIPTION:Trans Topic Tuesdays are a short\, informal\, weekly learning session dedicated to illuminating complex concepts related to LGBTQIA+ Life\, Health\, and Culture. Sessions frequently explore experiences\, terms\, needs\, treatments\, concepts that are missed in professional education surrounding LGBTQIA+ populations. Target audiences include but are not limited to: healthcare providers and healthcare support staff\, behavioural healthcare providers and their support staff\, education professionals\, government service persons\, human services professionals\, funders\, LGBTQIA+ people and their loved ones\, and more. \n\n\n\n\nRegister!
URL:https://chwari.org/event/trans-topic-tuesdays-2/2025-06-24/
CATEGORIES:Trainings
ATTACH;FMTTYPE=image/jpeg:https://chwari.org/wp-content/uploads/2021/11/ebcap-logo.jpg
LOCATION:
END:VEVENT
END:VCALENDAR