BEGIN:VCALENDAR
VERSION:2.0
PRODID:-//Community Health Worker Association of RI - ECPv6.15.20//NONSGML v1.0//EN
CALSCALE:GREGORIAN
METHOD:PUBLISH
X-ORIGINAL-URL:https://chwari.org
X-WR-CALDESC:Events for Community Health Worker Association of RI
REFRESH-INTERVAL;VALUE=DURATION:PT1H
X-Robots-Tag:noindex
X-PUBLISHED-TTL:PT1H
BEGIN:VTIMEZONE
TZID:America/New_York
BEGIN:DAYLIGHT
TZOFFSETFROM:-0500
TZOFFSETTO:-0400
TZNAME:EDT
DTSTART:20240310T070000
END:DAYLIGHT
BEGIN:STANDARD
TZOFFSETFROM:-0400
TZOFFSETTO:-0500
TZNAME:EST
DTSTART:20241103T060000
END:STANDARD
BEGIN:DAYLIGHT
TZOFFSETFROM:-0500
TZOFFSETTO:-0400
TZNAME:EDT
DTSTART:20250309T070000
END:DAYLIGHT
BEGIN:STANDARD
TZOFFSETFROM:-0400
TZOFFSETTO:-0500
TZNAME:EST
DTSTART:20251102T060000
END:STANDARD
BEGIN:DAYLIGHT
TZOFFSETFROM:-0500
TZOFFSETTO:-0400
TZNAME:EDT
DTSTART:20260308T070000
END:DAYLIGHT
BEGIN:STANDARD
TZOFFSETFROM:-0400
TZOFFSETTO:-0500
TZNAME:EST
DTSTART:20261101T060000
END:STANDARD
END:VTIMEZONE
BEGIN:VEVENT
DTSTART;TZID=America/New_York:20250708T123000
DTEND;TZID=America/New_York:20250708T130000
DTSTAMP:20260421T092509
CREATED:20250428T160512Z
LAST-MODIFIED:20250428T160514Z
UID:10001087-1751977800-1751979600@chwari.org
SUMMARY:Trans Topic Tuesdays
DESCRIPTION:Trans Topic Tuesdays are a short\, informal\, weekly learning session dedicated to illuminating complex concepts related to LGBTQIA+ Life\, Health\, and Culture. Sessions frequently explore experiences\, terms\, needs\, treatments\, concepts that are missed in professional education surrounding LGBTQIA+ populations. Target audiences include but are not limited to: healthcare providers and healthcare support staff\, behavioural healthcare providers and their support staff\, education professionals\, government service persons\, human services professionals\, funders\, LGBTQIA+ people and their loved ones\, and more. \n\n\n\n\nRegister!
URL:https://chwari.org/event/trans-topic-tuesdays-2/2025-07-08/
CATEGORIES:Trainings
ATTACH;FMTTYPE=image/jpeg:https://chwari.org/wp-content/uploads/2021/11/ebcap-logo.jpg
LOCATION:
END:VEVENT
BEGIN:VEVENT
DTSTART;TZID=America/New_York:20250722T123000
DTEND;TZID=America/New_York:20250722T130000
DTSTAMP:20260421T092509
CREATED:20250428T160512Z
LAST-MODIFIED:20250428T160514Z
UID:10001088-1753187400-1753189200@chwari.org
SUMMARY:Trans Topic Tuesdays
DESCRIPTION:Trans Topic Tuesdays are a short\, informal\, weekly learning session dedicated to illuminating complex concepts related to LGBTQIA+ Life\, Health\, and Culture. Sessions frequently explore experiences\, terms\, needs\, treatments\, concepts that are missed in professional education surrounding LGBTQIA+ populations. Target audiences include but are not limited to: healthcare providers and healthcare support staff\, behavioural healthcare providers and their support staff\, education professionals\, government service persons\, human services professionals\, funders\, LGBTQIA+ people and their loved ones\, and more. \n\n\n\n\nRegister!
URL:https://chwari.org/event/trans-topic-tuesdays-2/2025-07-22/
CATEGORIES:Trainings
ATTACH;FMTTYPE=image/jpeg:https://chwari.org/wp-content/uploads/2021/11/ebcap-logo.jpg
LOCATION:
END:VEVENT
BEGIN:VEVENT
DTSTART;TZID=America/New_York:20250724T120000
DTEND;TZID=America/New_York:20250724T130000
DTSTAMP:20260421T092509
CREATED:20250708T150556Z
LAST-MODIFIED:20250716T144127Z
UID:10001213-1753358400-1753362000@chwari.org
SUMMARY:Behavioral Health Foundations for CHWs Webinar
DESCRIPTION:Behavioral Health Foundations for CHWs WebinarThursday\, July 24th from 12:00 – 1:00 pm ET University of New England’s Maine Area Health Education Center (AHEC) Network  and MCD Global HealthAt the end of this training\, participants will have learned how to: Define behavioral health and explain its relevance to whole-person care. Describe the unique role of CHWs in promoting mental wellness and supporting individuals. Understand common mental health concerns and substance use disorders. Understand how stigma affects help-seeking behavior. Access learning resources and referral tools for continued development. To learn more and register for this training\, click the link below!\n\n\n\n \n\n\n\n\n\n\n\n\n\n\n\n\nAnother link
URL:https://chwari.org/event/behavioral-health-foundations-for-chws-webinar/
CATEGORIES:Trainings
ATTACH;FMTTYPE=image/png:https://chwari.org/wp-content/uploads/2025/07/NEPHTC-scaled.png
END:VEVENT
END:VCALENDAR