BEGIN:VCALENDAR
VERSION:2.0
PRODID:-//Community Health Worker Association of RI - ECPv6.15.20//NONSGML v1.0//EN
CALSCALE:GREGORIAN
METHOD:PUBLISH
X-ORIGINAL-URL:https://chwari.org
X-WR-CALDESC:Events for Community Health Worker Association of RI
REFRESH-INTERVAL;VALUE=DURATION:PT1H
X-Robots-Tag:noindex
X-PUBLISHED-TTL:PT1H
BEGIN:VTIMEZONE
TZID:America/New_York
BEGIN:DAYLIGHT
TZOFFSETFROM:-0500
TZOFFSETTO:-0400
TZNAME:EDT
DTSTART:20240310T070000
END:DAYLIGHT
BEGIN:STANDARD
TZOFFSETFROM:-0400
TZOFFSETTO:-0500
TZNAME:EST
DTSTART:20241103T060000
END:STANDARD
BEGIN:DAYLIGHT
TZOFFSETFROM:-0500
TZOFFSETTO:-0400
TZNAME:EDT
DTSTART:20250309T070000
END:DAYLIGHT
BEGIN:STANDARD
TZOFFSETFROM:-0400
TZOFFSETTO:-0500
TZNAME:EST
DTSTART:20251102T060000
END:STANDARD
BEGIN:DAYLIGHT
TZOFFSETFROM:-0500
TZOFFSETTO:-0400
TZNAME:EDT
DTSTART:20260308T070000
END:DAYLIGHT
BEGIN:STANDARD
TZOFFSETFROM:-0400
TZOFFSETTO:-0500
TZNAME:EST
DTSTART:20261101T060000
END:STANDARD
END:VTIMEZONE
BEGIN:VEVENT
DTSTART;TZID=America/New_York:20250805T123000
DTEND;TZID=America/New_York:20250805T130000
DTSTAMP:20260421T075108
CREATED:20250428T160512Z
LAST-MODIFIED:20250428T160514Z
UID:10001089-1754397000-1754398800@chwari.org
SUMMARY:Trans Topic Tuesdays
DESCRIPTION:Trans Topic Tuesdays are a short\, informal\, weekly learning session dedicated to illuminating complex concepts related to LGBTQIA+ Life\, Health\, and Culture. Sessions frequently explore experiences\, terms\, needs\, treatments\, concepts that are missed in professional education surrounding LGBTQIA+ populations. Target audiences include but are not limited to: healthcare providers and healthcare support staff\, behavioural healthcare providers and their support staff\, education professionals\, government service persons\, human services professionals\, funders\, LGBTQIA+ people and their loved ones\, and more. \n\n\n\n\nRegister!
URL:https://chwari.org/event/trans-topic-tuesdays-2/2025-08-05/
CATEGORIES:Trainings
ATTACH;FMTTYPE=image/jpeg:https://chwari.org/wp-content/uploads/2021/11/ebcap-logo.jpg
LOCATION:
END:VEVENT
BEGIN:VEVENT
DTSTART;TZID=America/New_York:20250819T123000
DTEND;TZID=America/New_York:20250819T130000
DTSTAMP:20260421T075108
CREATED:20250428T160512Z
LAST-MODIFIED:20250428T160514Z
UID:10001090-1755606600-1755608400@chwari.org
SUMMARY:Trans Topic Tuesdays
DESCRIPTION:Trans Topic Tuesdays are a short\, informal\, weekly learning session dedicated to illuminating complex concepts related to LGBTQIA+ Life\, Health\, and Culture. Sessions frequently explore experiences\, terms\, needs\, treatments\, concepts that are missed in professional education surrounding LGBTQIA+ populations. Target audiences include but are not limited to: healthcare providers and healthcare support staff\, behavioural healthcare providers and their support staff\, education professionals\, government service persons\, human services professionals\, funders\, LGBTQIA+ people and their loved ones\, and more. \n\n\n\n\nRegister!
URL:https://chwari.org/event/trans-topic-tuesdays-2/2025-08-19/
CATEGORIES:Trainings
ATTACH;FMTTYPE=image/jpeg:https://chwari.org/wp-content/uploads/2021/11/ebcap-logo.jpg
LOCATION:
END:VEVENT
END:VCALENDAR