BEGIN:VCALENDAR
VERSION:2.0
PRODID:-//Community Health Worker Association of RI - ECPv6.15.20//NONSGML v1.0//EN
CALSCALE:GREGORIAN
METHOD:PUBLISH
X-WR-CALNAME:Community Health Worker Association of RI
X-ORIGINAL-URL:https://chwari.org
X-WR-CALDESC:Events for Community Health Worker Association of RI
REFRESH-INTERVAL;VALUE=DURATION:PT1H
X-Robots-Tag:noindex
X-PUBLISHED-TTL:PT1H
BEGIN:VTIMEZONE
TZID:America/New_York
BEGIN:DAYLIGHT
TZOFFSETFROM:-0500
TZOFFSETTO:-0400
TZNAME:EDT
DTSTART:20180311T070000
END:DAYLIGHT
BEGIN:STANDARD
TZOFFSETFROM:-0400
TZOFFSETTO:-0500
TZNAME:EST
DTSTART:20181104T060000
END:STANDARD
BEGIN:DAYLIGHT
TZOFFSETFROM:-0500
TZOFFSETTO:-0400
TZNAME:EDT
DTSTART:20190310T070000
END:DAYLIGHT
BEGIN:STANDARD
TZOFFSETFROM:-0400
TZOFFSETTO:-0500
TZNAME:EST
DTSTART:20191103T060000
END:STANDARD
BEGIN:DAYLIGHT
TZOFFSETFROM:-0500
TZOFFSETTO:-0400
TZNAME:EDT
DTSTART:20200308T070000
END:DAYLIGHT
BEGIN:STANDARD
TZOFFSETFROM:-0400
TZOFFSETTO:-0500
TZNAME:EST
DTSTART:20201101T060000
END:STANDARD
END:VTIMEZONE
BEGIN:VEVENT
DTSTART;TZID=America/New_York:20191202T030000
DTEND;TZID=America/New_York:20191202T060000
DTSTAMP:20260421T191433
CREATED:20191104T224003Z
LAST-MODIFIED:20191104T224003Z
UID:10000033-1575255600-1575266400@chwari.org
SUMMARY:Suicide: Screening\, Prevention & Response Training
DESCRIPTION:DECEMBER 2\nSuicide: Screening\, Prevention & Response\nTraining offered by the Bradley Learning Exchange\n \nThe first step in effective suicide prevention is to identify someone in need of help. Asking three to six simple questions can help determine whether someone needs help and if immediate action is needed. \nIn this training\, participants learn to administer the Columbia Suicide Severity Rating Scale-Screen Version (C-SSRS Screener)\, an evidence-based tool used by those without specialized training in suicide assessment. Participants also review current national and Rhode Island statistics on suicide; learn risk factors\, warning signs\, myths and facts and local Rhode Island resources. Participants have the opportunity to practice using the C-SSRS Screener in a safe supportive environment through the use of video demonstrations\, case studies and role plays. \nDecember 2\, 2019\n8-11 am\nBradley Learning Exchange\n1 Catamore Blvd\nEast Providence\, RI  02914\n401-432-1106 \nRegister Here
URL:https://chwari.org/event/suicide-screening-prevention-response-training/
LOCATION:Bradley Learning Exchange\, 1 Catamore Boulevard\, East Providence\, RI\, 02914\, United States
CATEGORIES:Trainings
ATTACH;FMTTYPE=image/jpeg:https://chwari.org/wp-content/uploads/2019/11/suicide.jpg
END:VEVENT
END:VCALENDAR